
BEGIN:VCALENDAR
VERSION:2.0
PRODID:-//The Bellbird Primary School - ECPv6.15.20//NONSGML v1.0//EN
CALSCALE:GREGORIAN
METHOD:PUBLISH
X-ORIGINAL-URL:https://thebellbird.cambs.sch.uk
X-WR-CALDESC:Events for The Bellbird Primary School
REFRESH-INTERVAL;VALUE=DURATION:PT1H
X-Robots-Tag:noindex
X-PUBLISHED-TTL:PT1H
BEGIN:VTIMEZONE
TZID:Europe/London
BEGIN:DAYLIGHT
TZOFFSETFROM:+0000
TZOFFSETTO:+0100
TZNAME:BST
DTSTART:20210328T010000
END:DAYLIGHT
BEGIN:STANDARD
TZOFFSETFROM:+0100
TZOFFSETTO:+0000
TZNAME:GMT
DTSTART:20211031T010000
END:STANDARD
BEGIN:DAYLIGHT
TZOFFSETFROM:+0000
TZOFFSETTO:+0100
TZNAME:BST
DTSTART:20220327T010000
END:DAYLIGHT
BEGIN:STANDARD
TZOFFSETFROM:+0100
TZOFFSETTO:+0000
TZNAME:GMT
DTSTART:20221030T010000
END:STANDARD
BEGIN:DAYLIGHT
TZOFFSETFROM:+0000
TZOFFSETTO:+0100
TZNAME:BST
DTSTART:20230326T010000
END:DAYLIGHT
BEGIN:STANDARD
TZOFFSETFROM:+0100
TZOFFSETTO:+0000
TZNAME:GMT
DTSTART:20231029T010000
END:STANDARD
END:VTIMEZONE
BEGIN:VEVENT
DTSTART;TZID=Europe/London:20220701T180000
DTEND;TZID=Europe/London:20220701T193000
DTSTAMP:20260425T133701
CREATED:20220508T171208Z
LAST-MODIFIED:20220701T093518Z
UID:7968-1656698400-1656703800@thebellbird.cambs.sch.uk
SUMMARY:FABS event - Summer Fair
DESCRIPTION:
URL:https://thebellbird.cambs.sch.uk/event/fabs-event-summer-fair/
END:VEVENT
BEGIN:VEVENT
DTSTART;TZID=Europe/London:20220705T180000
DTEND;TZID=Europe/London:20220705T190000
DTSTAMP:20260425T133701
CREATED:20220508T171554Z
LAST-MODIFIED:20220508T171554Z
UID:7972-1657044000-1657047600@thebellbird.cambs.sch.uk
SUMMARY:Y6 production performance
DESCRIPTION:Y6
URL:https://thebellbird.cambs.sch.uk/event/y6-production-performance/
END:VEVENT
BEGIN:VEVENT
DTSTART;TZID=Europe/London:20220706T090000
DTEND;TZID=Europe/London:20220706T113000
DTSTAMP:20260425T133701
CREATED:20220401T151204Z
LAST-MODIFIED:20220401T152823Z
UID:7820-1657098000-1657107000@thebellbird.cambs.sch.uk
SUMMARY:Sports Day KS1
DESCRIPTION:Sports
URL:https://thebellbird.cambs.sch.uk/event/sports-day-ks1/
END:VEVENT
BEGIN:VEVENT
DTSTART;TZID=Europe/London:20220706T133000
DTEND;TZID=Europe/London:20220706T150000
DTSTAMP:20260425T133701
CREATED:20220401T151247Z
LAST-MODIFIED:20220401T152746Z
UID:7822-1657114200-1657119600@thebellbird.cambs.sch.uk
SUMMARY:Sports Day KS2
DESCRIPTION:S
URL:https://thebellbird.cambs.sch.uk/event/sports-day-ks2/
END:VEVENT
BEGIN:VEVENT
DTSTART;TZID=Europe/London:20220707T180000
DTEND;TZID=Europe/London:20220707T190000
DTSTAMP:20260425T133701
CREATED:20220508T171632Z
LAST-MODIFIED:20220508T171632Z
UID:7974-1657216800-1657220400@thebellbird.cambs.sch.uk
SUMMARY:Y6 production performance
DESCRIPTION:
URL:https://thebellbird.cambs.sch.uk/event/y6-production-performance-2/
END:VEVENT
BEGIN:VEVENT
DTSTART;TZID=Europe/London:20220713T080000
DTEND;TZID=Europe/London:20220715T170000
DTSTAMP:20260425T133701
CREATED:20220401T151339Z
LAST-MODIFIED:20220401T151339Z
UID:7824-1657699200-1657904400@thebellbird.cambs.sch.uk
SUMMARY:Y6 Residential trip to PGL
DESCRIPTION:Y6
URL:https://thebellbird.cambs.sch.uk/event/y6-residential-trip-to-pgl/
END:VEVENT
BEGIN:VEVENT
DTSTART;VALUE=DATE:20220721
DTEND;VALUE=DATE:20220722
DTSTAMP:20260425T133701
CREATED:20220401T151421Z
LAST-MODIFIED:20220401T152704Z
UID:7826-1658361600-1658447999@thebellbird.cambs.sch.uk
SUMMARY:Last day of Summer term
DESCRIPTION:Last day
URL:https://thebellbird.cambs.sch.uk/event/last-day-of-summer-term/
END:VEVENT
BEGIN:VEVENT
DTSTART;VALUE=DATE:20220722
DTEND;VALUE=DATE:20220723
DTSTAMP:20260425T133701
CREATED:20220401T151500Z
LAST-MODIFIED:20220401T152626Z
UID:7828-1658448000-1658534399@thebellbird.cambs.sch.uk
SUMMARY:INSET day - school closed
DESCRIPTION:INSET day
URL:https://thebellbird.cambs.sch.uk/event/inset-day-school-closed-2/
END:VEVENT
BEGIN:VEVENT
DTSTART;TZID=Europe/London:20220725T080000
DTEND;TZID=Europe/London:20220831T170000
DTSTAMP:20260425T133701
CREATED:20220401T155315Z
LAST-MODIFIED:20220401T155315Z
UID:7870-1658736000-1661965200@thebellbird.cambs.sch.uk
SUMMARY:Summer holidays - school closed
DESCRIPTION:
URL:https://thebellbird.cambs.sch.uk/event/summer-holidays-school-closed/
END:VEVENT
END:VCALENDAR