
BEGIN:VCALENDAR
VERSION:2.0
PRODID:-//The Bellbird Primary School - ECPv6.15.20//NONSGML v1.0//EN
CALSCALE:GREGORIAN
METHOD:PUBLISH
X-ORIGINAL-URL:https://thebellbird.cambs.sch.uk
X-WR-CALDESC:Events for The Bellbird Primary School
REFRESH-INTERVAL;VALUE=DURATION:PT1H
X-Robots-Tag:noindex
X-PUBLISHED-TTL:PT1H
BEGIN:VTIMEZONE
TZID:Europe/London
BEGIN:DAYLIGHT
TZOFFSETFROM:+0000
TZOFFSETTO:+0100
TZNAME:BST
DTSTART:20210328T010000
END:DAYLIGHT
BEGIN:STANDARD
TZOFFSETFROM:+0100
TZOFFSETTO:+0000
TZNAME:GMT
DTSTART:20211031T010000
END:STANDARD
BEGIN:DAYLIGHT
TZOFFSETFROM:+0000
TZOFFSETTO:+0100
TZNAME:BST
DTSTART:20220327T010000
END:DAYLIGHT
BEGIN:STANDARD
TZOFFSETFROM:+0100
TZOFFSETTO:+0000
TZNAME:GMT
DTSTART:20221030T010000
END:STANDARD
BEGIN:DAYLIGHT
TZOFFSETFROM:+0000
TZOFFSETTO:+0100
TZNAME:BST
DTSTART:20230326T010000
END:DAYLIGHT
BEGIN:STANDARD
TZOFFSETFROM:+0100
TZOFFSETTO:+0000
TZNAME:GMT
DTSTART:20231029T010000
END:STANDARD
END:VTIMEZONE
BEGIN:VEVENT
DTSTART;TZID=Europe/London:20220901T080000
DTEND;TZID=Europe/London:20220902T170000
DTSTAMP:20260425T170131
CREATED:20220401T153930Z
LAST-MODIFIED:20220401T153930Z
UID:7844-1662019200-1662138000@thebellbird.cambs.sch.uk
SUMMARY:INSET day - school closed
DESCRIPTION:INSET
URL:https://thebellbird.cambs.sch.uk/event/inset-day-school-closed-3/
END:VEVENT
BEGIN:VEVENT
DTSTART;VALUE=DATE:20220905
DTEND;VALUE=DATE:20220906
DTSTAMP:20260425T170131
CREATED:20220401T154048Z
LAST-MODIFIED:20220401T154048Z
UID:7846-1662336000-1662422399@thebellbird.cambs.sch.uk
SUMMARY:First day of Autumn term
DESCRIPTION:First
URL:https://thebellbird.cambs.sch.uk/event/first-day-of-autumn-term/
END:VEVENT
BEGIN:VEVENT
DTSTART;TZID=Europe/London:20220913T153000
DTEND;TZID=Europe/London:20220913T161500
DTSTAMP:20260425T170131
CREATED:20220830T195836Z
LAST-MODIFIED:20220830T195836Z
UID:8079-1663083000-1663085700@thebellbird.cambs.sch.uk
SUMMARY:Y4 Meet the Teacher
DESCRIPTION:In classrooms
URL:https://thebellbird.cambs.sch.uk/event/y4-meet-the-teacher/
END:VEVENT
BEGIN:VEVENT
DTSTART;TZID=Europe/London:20220913T163000
DTEND;TZID=Europe/London:20220913T170000
DTSTAMP:20260425T170131
CREATED:20220830T195932Z
LAST-MODIFIED:20220830T195932Z
UID:8081-1663086600-1663088400@thebellbird.cambs.sch.uk
SUMMARY:Y1 Meet the Teacher
DESCRIPTION:
URL:https://thebellbird.cambs.sch.uk/event/y1-meet-the-teacher/
END:VEVENT
BEGIN:VEVENT
DTSTART;TZID=Europe/London:20220914T153000
DTEND;TZID=Europe/London:20220914T161500
DTSTAMP:20260425T170131
CREATED:20220830T200047Z
LAST-MODIFIED:20220830T200047Z
UID:8083-1663169400-1663172100@thebellbird.cambs.sch.uk
SUMMARY:Y2 Meet the Teacher
DESCRIPTION:
URL:https://thebellbird.cambs.sch.uk/event/y2-meet-the-teacher/
END:VEVENT
BEGIN:VEVENT
DTSTART;TZID=Europe/London:20220914T163000
DTEND;TZID=Europe/London:20220914T170000
DTSTAMP:20260425T170131
CREATED:20220830T200125Z
LAST-MODIFIED:20220830T200125Z
UID:8085-1663173000-1663174800@thebellbird.cambs.sch.uk
SUMMARY:Y6 Meet the Teacher
DESCRIPTION:
URL:https://thebellbird.cambs.sch.uk/event/y6-meet-the-teacher/
END:VEVENT
BEGIN:VEVENT
DTSTART;TZID=Europe/London:20220915T153000
DTEND;TZID=Europe/London:20220915T161500
DTSTAMP:20260425T170131
CREATED:20220830T200702Z
LAST-MODIFIED:20220830T200702Z
UID:8091-1663255800-1663258500@thebellbird.cambs.sch.uk
SUMMARY:Y5 Meet the teacher
DESCRIPTION:
URL:https://thebellbird.cambs.sch.uk/event/y5-meet-the-teacher-2/
END:VEVENT
BEGIN:VEVENT
DTSTART;TZID=Europe/London:20220915T153000
DTEND;TZID=Europe/London:20220915T161500
DTSTAMP:20260425T170131
CREATED:20220915T143018Z
LAST-MODIFIED:20220830T200507Z
UID:8087-1663255800-1663258500@thebellbird.cambs.sch.uk
SUMMARY:Y5 Meet the Teacher
DESCRIPTION:
URL:https://thebellbird.cambs.sch.uk/event/y5-meet-the-teacher/
END:VEVENT
BEGIN:VEVENT
DTSTART;TZID=Europe/London:20220915T163000
DTEND;TZID=Europe/London:20220915T170000
DTSTAMP:20260425T170131
CREATED:20220830T200303Z
LAST-MODIFIED:20220830T200303Z
UID:8089-1663259400-1663261200@thebellbird.cambs.sch.uk
SUMMARY:Y3 Meet the Teacher
DESCRIPTION:
URL:https://thebellbird.cambs.sch.uk/event/y3-meet-the-teacher/
END:VEVENT
END:VCALENDAR